BEGIN:VCALENDAR
VERSION:2.0
PRODID:-//Drupal iCal API//EN
X-WR-CALNAME:Calendar of Events
X-WR-TIMEZONE:America/Chicago
BEGIN:VTIMEZONE
TZID:America/Chicago
X-LIC-LOCATION:America/Chicago
BEGIN:DAYLIGHT
TZNAME:CDT
TZOFFSETFROM:-0600
TZOFFSETTO:-0500
DTSTART:20260308T080000
END:DAYLIGHT
BEGIN:STANDARD
TZNAME:CST
TZOFFSETFROM:-0500
TZOFFSETTO:-0600
DTSTART:20251102T070000
END:STANDARD
END:VTIMEZONE
BEGIN:VEVENT
UID:c36bb165-6c54-44f9-a210-8e64954c211b
DTSTART;VALUE=DATE:20260420
SEQUENCE:0
TRANSP:TRANSPARENT
DTEND;VALUE=DATE:20260425
SUMMARY:STAAR Spirit Week
CLASS:PUBLIC
DESCRIPTION:Body \n\nSTAAR SPIRIT WEEK FLYER\n[/sites/palm.austinschools.or
 g/files/inline-files/STAAR%20Spirit%20Week%202026.pdf]\n\nMONDAY 4/20\n TU
 ESDAY 4/21\n WEDNESDAY 4/22\n THURSDAY 4/23\n FRIDAY 4/24\n\nPlayer 1 Read
 y\n\nDress Up: Wear Blue\, Yellow or a Palm Panda Shirt\n\n\"Log in and ge
 t your mind ready!\"\n\nPower-Up Day\n\nDress Up: Superheroes\n\n\"Use you
 r power-ups (strategies)!\"\n\nFinal Level: Active Strategies!\n\nDress Up
 : Workout Gear\n\n\"You've been training for this level!\"\n\nTeam Up Day\
 n\nDress Up: Team Gear / Matching Shirts\n\n\"We Win Together!\"\n\nThrowb
 ack Level\n\nDress Up: Retro / Favorite Game Characters\n\n\"Level Complet
 e - Leveled Up\"\n\n-------------------------\n\nSEMANA DE ESPIRITU STAAR 
 FLYER\n[/sites/palm.austinschools.org/files/inline-files/STAAR%20Spirit%20
 Week%202026_0.pdf]\n\nLUNES 4/20\n MARTES 4/21\n MIERCOLES 4/22\n JUEVES 4
 /23\n VIERNES 4/24\n\nJugador 1 listo\n\nVístete: Ponte una camiseta azul
 \, amarillo o de Palm Pandas\n\n\"¡Inicia sesión y prepara tu mente!\"\n
 \nDía de la energia\n\nVístete: Superhéroes\n\n\"¡Usa tus poderes (est
 rategias)!\"\n\nNivel Final: ¡Estrategias Activas!\n\nVístete: Ropa depo
 rtiva\n\n\"¡Has estado entrenando para este nivel!\"\n\nDía de la Colabo
 ración\n\nVístete: Equipación de un equipo / camisetas a juego\n\n\"¡J
 untos ganamos!\"\n\nNivel Retro\n\nVístete: Personajes retro / de tus jue
 gos favoritos\n\n\"Nivel completado - Has subido de nivel\"\n
X-MICROSOFT-CDO-ALLDAYEVENT:TRUE
DTSTAMP:20260416T043511Z
END:VEVENT
END:VCALENDAR